BEGIN:VCALENDAR
VERSION:2.0
PRODID:-//Universidad Gerardo Barrios | UGB - ECPv6.15.20//NONSGML v1.0//EN
CALSCALE:GREGORIAN
METHOD:PUBLISH
X-WR-CALNAME:Universidad Gerardo Barrios | UGB
X-ORIGINAL-URL:https://ugb.edu.sv
X-WR-CALDESC:Eventos para Universidad Gerardo Barrios | UGB
REFRESH-INTERVAL;VALUE=DURATION:PT1H
X-Robots-Tag:noindex
X-PUBLISHED-TTL:PT1H
BEGIN:VTIMEZONE
TZID:America/Chicago
BEGIN:DAYLIGHT
TZOFFSETFROM:-0600
TZOFFSETTO:-0500
TZNAME:CDT
DTSTART:20240310T080000
END:DAYLIGHT
BEGIN:STANDARD
TZOFFSETFROM:-0500
TZOFFSETTO:-0600
TZNAME:CST
DTSTART:20241103T070000
END:STANDARD
BEGIN:DAYLIGHT
TZOFFSETFROM:-0600
TZOFFSETTO:-0500
TZNAME:CDT
DTSTART:20250309T080000
END:DAYLIGHT
BEGIN:STANDARD
TZOFFSETFROM:-0500
TZOFFSETTO:-0600
TZNAME:CST
DTSTART:20251102T070000
END:STANDARD
BEGIN:DAYLIGHT
TZOFFSETFROM:-0600
TZOFFSETTO:-0500
TZNAME:CDT
DTSTART:20260308T080000
END:DAYLIGHT
BEGIN:STANDARD
TZOFFSETFROM:-0500
TZOFFSETTO:-0600
TZNAME:CST
DTSTART:20261101T070000
END:STANDARD
END:VTIMEZONE
BEGIN:VEVENT
DTSTART;VALUE=DATE:20250904
DTEND;VALUE=DATE:20250905
DTSTAMP:20260424T053838
CREATED:20250702T201223Z
LAST-MODIFIED:20250702T201231Z
UID:25842572-1756944000-1757030399@ugb.edu.sv
SUMMARY:Cancelación de 3ra. Cuota
DESCRIPTION:Interface Frameworks\n			\n				\n				\n				\n				\n				\n			\n				\n				\n				\n				\n				Alice ali\n			\n			\n				\n				\n				\n				\n			\n				\n				\n				\n				\n				\n				\n				\n				\n				\n				\n				10am\n			\n				\n				\n				\n				\n				Saturday\, Aug 14\n			\n			\n				\n				\n				\n				\n			\n				\n				\n			\n				\n				\n				\n				\n				\n				\n				\n				\n				\n				\n				\n				\n				\n				\n				\n				\n				\n				\n			\n			\n				\n				\n				\n				\n			\n				\n				\n				\n				\n				\n				\n				\n				\n				\n				\n				At vero eos et accusamus et iusto odio dignissimos ducimus qui blanditiis praesentium voluptatum deleniti.\n			\n			\n				\n				\n				\n				\n				\n				\n				\n				\n				\n				In hac habitasse platea dictumst. Etiam sollicitudin mauris sit amet urna fringilla\, vitae pretium urna pretium. In eleifend efficitur lectus vel iaculis. Quisque imperdiet nisi vitae placerat tempus.\n			\n			\n				\n				\n				\n				\n			\n				\n				\n				\n				\n				\n				\n				\n				\n				\n				\n				\n			\n			\n				\n				\n				\n				\n			\n				\n				\n			\n				\n				\n				\n				\n				\n				\n				\n				\n				\n				\n				\n				\n				\n				\n				\n				\n				\n				\n			\n				\n				\n				\n				\n				Register Today!\n			\n				\n				\n				\n				\n				Vero eos et accusamus et iusto odio dignissimos ducimus qui blanditiis praesentium voluptatqua.\n			\n				\n				\n				\n				\n				\n					\n					\n						 \n						Día(s) \n					\n						: \n					\n						 \n						Hora(s) \n					\n						: \n					\n						 \n						Minuto(s) \n					\n						: \n					\n						 \n						Segundo(s) \n					\n				\n			\n				Get Tickets\n			\n			\n				\n				\n				\n				\n			\n				\n				\n			\n				\n				\n				\n				\n				\n				\n				\n				\n				\n				\n				\n				\n				\n				\n				\n				\n				\n				\n			\n			\n				\n				\n				\n				\n			\n				\n				\n				\n				\n				\n				\n				\n				\n				\n				\n				\n			\n				\n				\n				\n				\n				2026 Divi Summit\n			\n			\n				\n				\n				\n				\n				\n				\n				\n				\n				\n				Menu\n			\n				\n				\n				\n				\n				Services \nWorks \nAbout \nContact\n			\n			\n				\n				\n				\n				\n				\n				\n				\n				\n				\n				Locations\n			\n				\n				\n				\n				\n				Amsterdam \nLondon \nBerlin\n			\n			\n				\n				\n				\n				\n				\n				\n				\n				\n				\n				Connect\n			\n				\n				\n				\n				\n				Linkedin \nFacebook \nTwitter \nInstagram\n			\n			\n				\n				\n				\n				\n				\n				\n				\n				\n				\n				Stay In Touch\n			\n				\n				\n				\n				\n				\n				\n				\n					\n						\n						\n							Mensaje de éxito\n						\n						\n							\n							\n							\n					\n						Correo electrónico\n						\n					 \n							\n							\n					\n						\n							\n							Suscribirse
URL:https://ugb.edu.sv/event/cancelacion-de-3ra-cuota-2/
CATEGORIES:Calendario de pagos
END:VEVENT
END:VCALENDAR